BEGIN:VCALENDAR
VERSION:2.0
PRODID:-//PDF Solutions - ECPv6.15.20//NONSGML v1.0//EN
CALSCALE:GREGORIAN
METHOD:PUBLISH
X-WR-CALNAME:PDF Solutions
X-ORIGINAL-URL:https://www.pdf.com
X-WR-CALDESC:Events for PDF Solutions
REFRESH-INTERVAL;VALUE=DURATION:PT1H
X-Robots-Tag:noindex
X-PUBLISHED-TTL:PT1H
BEGIN:VTIMEZONE
TZID:America/Halifax
BEGIN:DAYLIGHT
TZOFFSETFROM:-0400
TZOFFSETTO:-0300
TZNAME:ADT
DTSTART:20180311T060000
END:DAYLIGHT
BEGIN:STANDARD
TZOFFSETFROM:-0300
TZOFFSETTO:-0400
TZNAME:AST
DTSTART:20181104T050000
END:STANDARD
BEGIN:DAYLIGHT
TZOFFSETFROM:-0400
TZOFFSETTO:-0300
TZNAME:ADT
DTSTART:20190310T060000
END:DAYLIGHT
BEGIN:STANDARD
TZOFFSETFROM:-0300
TZOFFSETTO:-0400
TZNAME:AST
DTSTART:20191103T050000
END:STANDARD
BEGIN:DAYLIGHT
TZOFFSETFROM:-0400
TZOFFSETTO:-0300
TZNAME:ADT
DTSTART:20200308T060000
END:DAYLIGHT
BEGIN:STANDARD
TZOFFSETFROM:-0300
TZOFFSETTO:-0400
TZNAME:AST
DTSTART:20201101T050000
END:STANDARD
BEGIN:DAYLIGHT
TZOFFSETFROM:-0400
TZOFFSETTO:-0300
TZNAME:ADT
DTSTART:20210314T060000
END:DAYLIGHT
BEGIN:STANDARD
TZOFFSETFROM:-0300
TZOFFSETTO:-0400
TZNAME:AST
DTSTART:20211107T050000
END:STANDARD
BEGIN:DAYLIGHT
TZOFFSETFROM:-0400
TZOFFSETTO:-0300
TZNAME:ADT
DTSTART:20220313T060000
END:DAYLIGHT
BEGIN:STANDARD
TZOFFSETFROM:-0300
TZOFFSETTO:-0400
TZNAME:AST
DTSTART:20221106T050000
END:STANDARD
BEGIN:DAYLIGHT
TZOFFSETFROM:-0400
TZOFFSETTO:-0300
TZNAME:ADT
DTSTART:20230312T060000
END:DAYLIGHT
BEGIN:STANDARD
TZOFFSETFROM:-0300
TZOFFSETTO:-0400
TZNAME:AST
DTSTART:20231105T050000
END:STANDARD
END:VTIMEZONE
BEGIN:VTIMEZONE
TZID:America/Los_Angeles
BEGIN:DAYLIGHT
TZOFFSETFROM:-0800
TZOFFSETTO:-0700
TZNAME:PDT
DTSTART:20200308T100000
END:DAYLIGHT
BEGIN:STANDARD
TZOFFSETFROM:-0700
TZOFFSETTO:-0800
TZNAME:PST
DTSTART:20201101T090000
END:STANDARD
BEGIN:DAYLIGHT
TZOFFSETFROM:-0800
TZOFFSETTO:-0700
TZNAME:PDT
DTSTART:20210314T100000
END:DAYLIGHT
BEGIN:STANDARD
TZOFFSETFROM:-0700
TZOFFSETTO:-0800
TZNAME:PST
DTSTART:20211107T090000
END:STANDARD
BEGIN:DAYLIGHT
TZOFFSETFROM:-0800
TZOFFSETTO:-0700
TZNAME:PDT
DTSTART:20220313T100000
END:DAYLIGHT
BEGIN:STANDARD
TZOFFSETFROM:-0700
TZOFFSETTO:-0800
TZNAME:PST
DTSTART:20221106T090000
END:STANDARD
END:VTIMEZONE
BEGIN:VTIMEZONE
TZID:Europe/Paris
BEGIN:DAYLIGHT
TZOFFSETFROM:+0100
TZOFFSETTO:+0200
TZNAME:CEST
DTSTART:20200329T010000
END:DAYLIGHT
BEGIN:STANDARD
TZOFFSETFROM:+0200
TZOFFSETTO:+0100
TZNAME:CET
DTSTART:20201025T010000
END:STANDARD
BEGIN:DAYLIGHT
TZOFFSETFROM:+0100
TZOFFSETTO:+0200
TZNAME:CEST
DTSTART:20210328T010000
END:DAYLIGHT
BEGIN:STANDARD
TZOFFSETFROM:+0200
TZOFFSETTO:+0100
TZNAME:CET
DTSTART:20211031T010000
END:STANDARD
BEGIN:DAYLIGHT
TZOFFSETFROM:+0100
TZOFFSETTO:+0200
TZNAME:CEST
DTSTART:20220327T010000
END:DAYLIGHT
BEGIN:STANDARD
TZOFFSETFROM:+0200
TZOFFSETTO:+0100
TZNAME:CET
DTSTART:20221030T010000
END:STANDARD
END:VTIMEZONE
BEGIN:VTIMEZONE
TZID:America/Denver
BEGIN:DAYLIGHT
TZOFFSETFROM:-0700
TZOFFSETTO:-0600
TZNAME:MDT
DTSTART:20190310T090000
END:DAYLIGHT
BEGIN:STANDARD
TZOFFSETFROM:-0600
TZOFFSETTO:-0700
TZNAME:MST
DTSTART:20191103T080000
END:STANDARD
BEGIN:DAYLIGHT
TZOFFSETFROM:-0700
TZOFFSETTO:-0600
TZNAME:MDT
DTSTART:20200308T090000
END:DAYLIGHT
BEGIN:STANDARD
TZOFFSETFROM:-0600
TZOFFSETTO:-0700
TZNAME:MST
DTSTART:20201101T080000
END:STANDARD
BEGIN:DAYLIGHT
TZOFFSETFROM:-0700
TZOFFSETTO:-0600
TZNAME:MDT
DTSTART:20210314T090000
END:DAYLIGHT
BEGIN:STANDARD
TZOFFSETFROM:-0600
TZOFFSETTO:-0700
TZNAME:MST
DTSTART:20211107T080000
END:STANDARD
END:VTIMEZONE
BEGIN:VEVENT
DTSTART;VALUE=DATE:20220404
DTEND;VALUE=DATE:20220407
DTSTAMP:20260421T052207
CREATED:20220217T012634Z
LAST-MODIFIED:20250219T201340Z
UID:3071-1649030400-1649289599@www.pdf.com
SUMMARY:APC|M Europe
DESCRIPTION:Alan Weber\, VP of New Product Innovations\, PDF Solutions\, will present on “Productivity Infrastructure for Semiconductor Smart Manufacturing” on April 5\, from 13:30-15:10\, in Session 3\, Part 2 \nJon Holt\, Sr. Product Manager\, PDF Solutions\, will present on “Next Generation FDC Challenges for Smart Manufacturing” on April 5\,  from 13:30-15:10 in Session 1\, Part 3 \nCo-located with  APC|M\, PDF Solutions will also be holding our European Process Control Users Group meeting. Details to follow\, or you can directly contact Didier.Vieux@pdf.com
URL:https://www.pdf.com/event/apcm-europe/
END:VEVENT
BEGIN:VEVENT
DTSTART;VALUE=DATE:20220215
DTEND;VALUE=DATE:20220218
DTSTAMP:20260421T052207
CREATED:20220217T013221Z
LAST-MODIFIED:20220217T013221Z
UID:3075-1644883200-1645142399@www.pdf.com
SUMMARY:Wafer Level Packaging Symposium (WLPS) 2022
DESCRIPTION:Alan Weber\, VP of New Product Innovations\, PDF Solutions will virtually present on “Smart Automation for Wafer-Level Packaging Workshop”  on Feb 15 at 1:30 pm PT.
URL:https://www.pdf.com/event/wafer-level-packaging-symposium-wlps-2022/
LOCATION:Virtual Event
ORGANIZER;CN="SMTA":MAILTO:smta@smta.org
END:VEVENT
BEGIN:VEVENT
DTSTART;VALUE=DATE:20220209
DTEND;VALUE=DATE:20220212
DTSTAMP:20260421T052207
CREATED:20220217T011945Z
LAST-MODIFIED:20220217T011945Z
UID:3068-1644364800-1644623999@www.pdf.com
SUMMARY:SEMICON Korea
DESCRIPTION:
URL:https://www.pdf.com/event/semicon-korea/
LOCATION:COEX\, Seoul\, Korea\, Republic of
END:VEVENT
BEGIN:VEVENT
DTSTART;VALUE=DATE:20211207
DTEND;VALUE=DATE:20211210
DTSTAMP:20260421T052207
CREATED:20210318T035715Z
LAST-MODIFIED:20210625T052308Z
UID:2333-1638835200-1639094399@www.pdf.com
SUMMARY:SEMICON West 2021
DESCRIPTION:Hybrid SEMICON West 2021 connects the entire extended electronics supply chain—in one place\, at one time. It’s the smart way to re-connect with your contacts\, customers\, partners\, plus drive your business forward.
URL:https://www.pdf.com/event/semicon-west-2021/
LOCATION:Moscone Center\, 800 Howard St\, San Francisco\, CA\, 94103\, United States
END:VEVENT
BEGIN:VEVENT
DTSTART;VALUE=DATE:20211116
DTEND;VALUE=DATE:20211120
DTSTAMP:20260421T052207
CREATED:20210625T053734Z
LAST-MODIFIED:20211008T004013Z
UID:2614-1637020800-1637366399@www.pdf.com
SUMMARY:Productronica 2021
DESCRIPTION:The productronica is the world’s leading international trade fair for innovative electronics production. It is the only event of its kind that covers the complete range of current and forward-looking products\, technologies and system solutions in their entire breadth and depth and along the entire value-added chain.
URL:https://www.pdf.com/event/productronica-semicon-europa-2021/
LOCATION:Messe Munchen\, Messegelände\, Munich\, 81823\, Germany
ORGANIZER;CN="Productronica":MAILTO:info@productronica.com
END:VEVENT
BEGIN:VEVENT
DTSTART;VALUE=DATE:20211004
DTEND;VALUE=DATE:20211008
DTSTAMP:20260421T052207
CREATED:20210625T051128Z
LAST-MODIFIED:20210625T051850Z
UID:2602-1633305600-1633651199@www.pdf.com
SUMMARY:APCSM 2021 (Austin\, TX)
DESCRIPTION:The Advanced Process Control Smart Manufacturing Conference (APCSM) will address APC and Smart Manufacturing needs & solutions for the microelectronics and related industries that also require high  precision manufacturing.  APC and Smart Manufacturing techniques are essential as these industries address competitive pressures to improve yield\, quality\, and manufacturing efficiency.
URL:https://www.pdf.com/event/apcsm-2021-austin-tx/
LOCATION:Austin Airport Hilton\, 9515 Hotel Drive\, Austin\, TX\, 78719\, United States
ORGANIZER;CN="IMA":MAILTO:vaneck@apcconference.com
END:VEVENT
BEGIN:VEVENT
DTSTART;VALUE=DATE:20210621
DTEND;VALUE=DATE:20210624
DTSTAMP:20260421T052207
CREATED:20210318T030821Z
LAST-MODIFIED:20210318T030821Z
UID:2329-1624233600-1624492799@www.pdf.com
SUMMARY:Advantest Voice
DESCRIPTION:VOICE\, the annual Advantest Developer Conference\, is the leading conference for the growing international community of users and strategic partners involved with Advantest’s V93000 and T2000 SoC test platforms as well as Advantest memory testers\, handlers and test cell solutions\, product engineering\, and test technology. \n74-PT – Intelligent Dynamic Parametric Testing with the V93000/SMU8 + PDF Exensio® Test Operations\nThe primary objective of parametric testing is to identify wafer-fabrication deviations at the earliest possible time. In a unique application of dynamic adaptive test\, this paper demonstrates how parametric test flows can be automatically modified at test time to analyze problems\, generate additional parametric process information and perform the first level of device characterization analysis while optimizing parametric test cell utilization.
URL:https://www.pdf.com/event/advantest-voice/
LOCATION:Virtual Event
ORGANIZER;CN="Advantest":MAILTO:mktgcomms@advantest.com
END:VEVENT
BEGIN:VEVENT
DTSTART;TZID=America/Halifax:20210518T140000
DTEND;TZID=America/Halifax:20210518T150000
DTSTAMP:20260421T052207
CREATED:20210516T103817Z
LAST-MODIFIED:20250219T202025Z
UID:2473-1621346400-1621350000@www.pdf.com
SUMMARY:ESD Alliance CEO Outlook 2021
DESCRIPTION:This year’s informative event\, featuring eight prominent industry CEOs\, will be conducted as a virtual event. Ed Sperling\, Editor in Chief of Semiconductor Engineering\, will moderate this year’s panel\, which includes: \n\nArm—Simon Segars\nCadence—Lip-Bu Tan\nIC Manage—Dean Drako\nPDF Solutions—John Kibarian\nReal Intent—Prakash Narain\nSiemens IC EDA—Joseph Sawicki\nSilvaco—Babak Taheri\nSynopsys—Aart de Geus\n\nThe panelists will discuss the state of the Electronic System Design industry along with their views of the outlook for the coming years.
URL:https://www.pdf.com/event/esd-alliance-ceo-outlook-2021/
LOCATION:Virtual Event
END:VEVENT
BEGIN:VEVENT
DTSTART;TZID=America/Halifax:20210414T100000
DTEND;TZID=America/Halifax:20210415T235900
DTSTAMP:20260421T052207
CREATED:20200227T232644Z
LAST-MODIFIED:20250219T201617Z
UID:527-1618394400-1618531140@www.pdf.com
SUMMARY:GSA Silicon Leadership Summit
DESCRIPTION:The 2021 Silicon Leadership Summit\, hosted virtually on-line this year\, is GSA’s global technology and business conference and an unique platform that brings together over 250 senior executives across the expanded semiconductor ecosystem at the intersection of semiconductors\, software\, systems\, solutions\, and services for a full day of thought leadership\, and collaborative dialogue\, providing deep insights on technology and business model innovations\, emerging market trends\, and growth opportunities.
URL:https://www.pdf.com/event/gsa-silicon-leadership-summit/
LOCATION:Virtual Event
ORGANIZER;CN="GSA":MAILTO:contact@gsaglobal.org
END:VEVENT
BEGIN:VEVENT
DTSTART;VALUE=DATE:20210408
DTEND;VALUE=DATE:20210412
DTSTAMP:20260421T052207
CREATED:20210318T030507Z
LAST-MODIFIED:20210318T030507Z
UID:2327-1617840000-1618185599@www.pdf.com
SUMMARY:edtm 2021
DESCRIPTION:The IEEE Electron Devices Technology and Manufacturing (EDTM) Conference is a new flagship conference created by IEEE Electron Devices Society (EDS) to address both the technology advances in micro/nano-electronics and the globalization of the semiconductor industry.
URL:https://www.pdf.com/event/edtm-2021/
LOCATION:Virtual Event
END:VEVENT
BEGIN:VEVENT
DTSTART;TZID=America/Halifax:20210407T100000
DTEND;TZID=America/Halifax:20210407T110000
DTSTAMP:20260421T052207
CREATED:20210318T010011Z
LAST-MODIFIED:20210401T010221Z
UID:2318-1617789600-1617793200@www.pdf.com
SUMMARY:Harnessing the Power of SEMI EDA Standards: Implementation Best Practices
DESCRIPTION:Free webinar to learn EDA Implementation best practices. \nThe SEMI Equipment Data Acquisition (EDA/Interface A) standards improve the performance and flexibility of communication between a factory’s data collection\, analysis\, and application systems and the factory equipment. You will come away from this second webinar in the series understanding the EDA deployment process and some of the key solution technologies now available to realize the benefits while “future-proofing” the resulting factory systems.
URL:https://www.pdf.com/event/harnessing-the-power-of-semi-eda-standards-implementation-best-practices/
LOCATION:Hilton Phoenix Chandler\, 2929 W Frye Road\, Chandler\, AZ\, 85224\, United States
ORGANIZER;CN="PDF Solutions":MAILTO:marcomm@pdf.com
END:VEVENT
BEGIN:VEVENT
DTSTART;TZID=America/Los_Angeles:20210331T100000
DTEND;TZID=America/Los_Angeles:20210331T110000
DTSTAMP:20260421T052207
CREATED:20210318T025424Z
LAST-MODIFIED:20210319T201148Z
UID:2321-1617184800-1617188400@www.pdf.com
SUMMARY:APC|M Europe 2021
DESCRIPTION:This years conference program will be organized as Online Conference with virtual presentations/talks and poster sessions in parallel. The conference will be an excellent opportunity to present interesting topics in the area of APC and advanced manufacturing. During the schedule of events there will be plenty of time to get in contact with your colleagues\, customers and suppliers. \nPresenter: Alan Weber\, VP of New Product Innovations – Cimetrix Connectivity Group\, PDF Solutions \nPresentation Title: TBD
URL:https://www.pdf.com/event/apcm-europe-2021/
LOCATION:Virtual Event
END:VEVENT
BEGIN:VEVENT
DTSTART;TZID=America/Halifax:20210331T100000
DTEND;TZID=America/Halifax:20210331T110000
DTSTAMP:20260421T052207
CREATED:20210318T005736Z
LAST-MODIFIED:20210318T005736Z
UID:2315-1617184800-1617188400@www.pdf.com
SUMMARY:SEMI EDA Standards Are Essential for Smart Manufacturing: What You Need to Know and Why
DESCRIPTION:Free webinar to learn how EDA/Interface A is impacting Smart Manufacturing \nSpeakers:\nAlan Weber – VP New Product Innovations\, Cimetrix Connectivity Group\, PDF Solutions\nJack Downey – Factory Automation Manager\, GLOBALFOUNDRIES
URL:https://www.pdf.com/event/semi-eda-standards-are-essential-for-smart-manufacturing-what-you-need-to-know-and-why/
LOCATION:Hilton Phoenix Chandler\, 2929 W Frye Road\, Chandler\, AZ\, 85224\, United States
ORGANIZER;CN="PDF Solutions":MAILTO:marcomm@pdf.com
END:VEVENT
BEGIN:VEVENT
DTSTART;VALUE=DATE:20210317
DTEND;VALUE=DATE:20210320
DTSTAMP:20260421T052207
CREATED:20210318T004848Z
LAST-MODIFIED:20210318T031018Z
UID:2311-1615939200-1616198399@www.pdf.com
SUMMARY:SEMICON China
DESCRIPTION:SEMICON China connects you to the world’s fastest-growing and most dynamic microelectronics market\, and gives you the platform to showcase your products\, technologies\, and brand in front of the most qualified audience of industry professionals in China.
URL:https://www.pdf.com/event/semicon-china/
LOCATION:Shanghai New International Expo Centre\, 2345 Longyang Rd\, Shi Ji Gong Yuan\, Pudong\, Shanghai\, China
ORGANIZER;CN="SEMI China":MAILTO:semichina@semi.org
END:VEVENT
BEGIN:VEVENT
DTSTART;VALUE=DATE:20210308
DTEND;VALUE=DATE:20210313
DTSTAMP:20260421T052207
CREATED:20210301T224308Z
LAST-MODIFIED:20210315T214323Z
UID:2300-1615161600-1615593599@www.pdf.com
SUMMARY:APEX EXPO 2021
DESCRIPTION:Digital event for 2021 \nVisit us at our virtual booth by registering for the IPC Apex show.
URL:https://www.pdf.com/event/apex-expo-ipc/
LOCATION:Virtual Event
ORGANIZER;CN="IPC":MAILTO:AliciaBalonek@ipc.org
END:VEVENT
BEGIN:VEVENT
DTSTART;VALUE=DATE:20210215
DTEND;VALUE=DATE:20210220
DTSTAMP:20260421T052207
CREATED:20210205T095519Z
LAST-MODIFIED:20210205T095519Z
UID:2246-1613347200-1613779199@www.pdf.com
SUMMARY:Technology Unites Global Summit
DESCRIPTION:The Technology Unites Global Summit brings together the global microelectronics supply chain\, manufacturers and end users for a digital experience featuring industry thought leaders and high-value technical content from around the world.  \nThe Summit will feature eight forums presenting the latest innovations\, as well as seven regional pavilions and value-add networking opportunities.?  \n \n  \nVirtual Event: February 15-19\, 2021 \nWho: Thomas Simon\, GM of Cimetrix Incorporated\, Europe \nWhat: Discussions on Cimetrix Connectivity Products and the Cimetrix Sapience Platform: \nRegister by clicking here
URL:https://www.pdf.com/event/technology-unites-global-summit/
LOCATION:Virtual Event
END:VEVENT
BEGIN:VEVENT
DTSTART;VALUE=DATE:20201215
DTEND;VALUE=DATE:20201217
DTSTAMP:20260421T052207
CREATED:20201106T024052Z
LAST-MODIFIED:20201106T024230Z
UID:2162-1607990400-1608163199@www.pdf.com
SUMMARY:ISSM 2020
DESCRIPTION:Paper: PM-31 Automated Top Down System for Fab Wide Process Equipment Health Monitoring\nPresenter: Mike Keleher\, PDF Solutions\nTime: Wednesday\, December 16\, 15:10p-15:30p JST\nLocation: Virtual Symposium (visit website for details)
URL:https://www.pdf.com/event/issm-2020/
LOCATION:Virtual Event
END:VEVENT
BEGIN:VEVENT
DTSTART;VALUE=DATE:20201116
DTEND;VALUE=DATE:20201119
DTSTAMP:20260421T052207
CREATED:20201106T021447Z
LAST-MODIFIED:20250219T202214Z
UID:2156-1605484800-1605743999@www.pdf.com
SUMMARY:NANO Testing Symposium 2020
DESCRIPTION:Paper: AI-FDC – A modern approach to process control\nPresenter: Kazuki Kunitoshi\, PDF Solutions\nTime: Wednesday\, November 18\, 10:45a-11:10am\nLocation: KFC Hall
URL:https://www.pdf.com/event/nano-testing-symposium-2020/
LOCATION:KFC Hall\, Kokusai Fashion Center\, Yokoami 1-6-1\, Sumida-Ku\, Tokyo\, 130-0015\, Japan
END:VEVENT
BEGIN:VEVENT
DTSTART;VALUE=DATE:20201006
DTEND;VALUE=DATE:20201010
DTSTAMP:20260421T052207
CREATED:20200422T101824Z
LAST-MODIFIED:20201004T025508Z
UID:970-1601942400-1602287999@www.pdf.com
SUMMARY:IMAPS 2020
DESCRIPTION:Paper: Detecting a Security Breach and Pinpointing its Source\nPresenter: Dave Huntley\, Director of Business Development\nTime: Virtual Conference\, available anytime after October 6\, 2020\n\n  \n 
URL:https://www.pdf.com/event/imaps-2020/
LOCATION:Virtual Event
ORGANIZER;CN="IMAPS":MAILTO:info@imaps.org
END:VEVENT
BEGIN:VEVENT
DTSTART;VALUE=DATE:20201006
DTEND;VALUE=DATE:20201007
DTSTAMP:20260421T052207
CREATED:20200422T102611Z
LAST-MODIFIED:20201004T025527Z
UID:974-1601942400-1602028799@www.pdf.com
SUMMARY:APCSM 2020
DESCRIPTION:Paper: Combining Machine Learning with Advanced Outlier Detection to Improve Quality and Lower Cost\nPresenter: Tomonori Honda\, Fellow\nTime: 3pm CDT – Tuesday\, October 6\, 2020
URL:https://www.pdf.com/event/apcsm-2020/
LOCATION:Virtual Event
ORGANIZER;CN="IMA":MAILTO:vaneck@apcconference.com
END:VEVENT
BEGIN:VEVENT
DTSTART;TZID=America/Halifax:20200918T080000
DTEND;TZID=America/Halifax:20200918T100000
DTSTAMP:20260421T052207
CREATED:20200422T100431Z
LAST-MODIFIED:20200901T110918Z
UID:964-1600416000-1600423200@www.pdf.com
SUMMARY:Known Good Die (KGD) Workshop 2020
DESCRIPTION:Presentation: Improving SiP Quality and Reducing Cost Through the Use of Machine Learning and Predictive Analytics \nPresenter: Jeff David\, VP of AI Solutions\, PDF Solutions \nTime: 8:00 am
URL:https://www.pdf.com/event/known-good-die-kgd-workshop-2020/
LOCATION:Virtual Event
ORGANIZER;CN="MEPTEC":MAILTO:gedwards@meptec.org
END:VEVENT
BEGIN:VEVENT
DTSTART;TZID=America/Halifax:20200812T100000
DTEND;TZID=America/Halifax:20200812T110000
DTSTAMP:20260421T052207
CREATED:20200808T051305Z
LAST-MODIFIED:20200808T051418Z
UID:1992-1597226400-1597230000@www.pdf.com
SUMMARY:PDF Solutions Webinar: Smart Manufacturing in the Cloud
DESCRIPTION:In this free webinar\, PDF Solutions will describe how leading customers are using the PDF Cloud to improve the efficiency of their semiconductor manufacturing environment and increase their product yield and quality. Attendees will hear from both Skyworks® and Graphcore® on the factors that drove their adoption of PDF Cloud and the successes they have achieved. \nWebinar attendees will learn: \n\nHow PDF Cloud enables a turnkey SaaS data analytics environment tuned for semiconductor manufacturing and test\nHow PDF Cloud is scalable for tens of users and tens of TB of semiconductor data up to 100s of users and 100s of TB of data and why this is the best analytics platform for both startups and enterprise-level companies\nWhy the PDF Cloud is more robust and secure than your existing on-prem environment\, and is ideal in the current COVID-19 environment
URL:https://www.pdf.com/event/pdf-solutions-webinar-smart-manufacturing-in-the-cloud/
ORGANIZER;CN="PDF Solutions":MAILTO:marcomm@pdf.com
END:VEVENT
BEGIN:VEVENT
DTSTART;TZID=America/Denver:20200624T100000
DTEND;TZID=America/Denver:20200624T110000
DTSTAMP:20260421T052207
CREATED:20200612T191907Z
LAST-MODIFIED:20200616T085446Z
UID:1834-1592992800-1592996400@www.pdf.com
SUMMARY:Webinar: Smart Manufacturing in the Fab
DESCRIPTION:
URL:https://www.pdf.com/event/webinar-smart-manufacturing-in-the-fab/
END:VEVENT
BEGIN:VEVENT
DTSTART;TZID=America/Halifax:20200617T103000
DTEND;TZID=America/Halifax:20200617T120000
DTSTAMP:20260421T052207
CREATED:20200527T100644Z
LAST-MODIFIED:20250219T202124Z
UID:1792-1592389800-1592395200@www.pdf.com
SUMMARY:ESD Alliance 2020 CEO Outlook
DESCRIPTION:The Electronic System Design Alliance\, a SEMI Strategic Technology Community representing members in the electronic system and semiconductor design ecosystem is hosting the virtual 2020 CEO Outlook\, moderated by Ed Sperling\, editor-in-chief Semiconductor Engineering\, and featuring six ESD Alliance Governing Council members. They are Arm’s Simon Segars\, Joe Sawicki of Mentor\, a Siemens Business\, OneSpin’s Raik Brinkmann\, John Kibarian from PDF Solutions\, Prakash Narain of Real Intent and Silvaco’s Babak Taheri.
URL:https://www.pdf.com/event/esd-alliance-2020-ceo-outlook/
END:VEVENT
BEGIN:VEVENT
DTSTART;VALUE=DATE:20200527
DTEND;VALUE=DATE:20200528
DTSTAMP:20260421T052207
CREATED:20200422T094727Z
LAST-MODIFIED:20200427T201610Z
UID:960-1590537600-1590623999@www.pdf.com
SUMMARY:Craig-Hallum Conference
DESCRIPTION:Presenter: Adnan Raza\, VP of Finance and CFO\, PDF Solutions
URL:https://www.pdf.com/event/craig-hallum-conference/
LOCATION:Virtual Event
ORGANIZER;CN="Craig-Hallum":MAILTO:inst.sales@craig-hallum.com
END:VEVENT
BEGIN:VEVENT
DTSTART;VALUE=DATE:20200406
DTEND;VALUE=DATE:20200409
DTSTAMP:20260421T052207
CREATED:20200227T233231Z
LAST-MODIFIED:20200227T233231Z
UID:530-1586131200-1586390399@www.pdf.com
SUMMARY:VLSI Test Symposium
DESCRIPTION:
URL:https://www.pdf.com/event/vlsi-test-symposium/
LOCATION:Hyatt Regency Mission Bay Spa and Marina\, 1441 Quivira Rd\, San Diego\, CA\, 92109\, United States
END:VEVENT
BEGIN:VEVENT
DTSTART;VALUE=DATE:20200330
DTEND;VALUE=DATE:20200402
DTSTAMP:20260421T052207
CREATED:20200227T233619Z
LAST-MODIFIED:20250219T202252Z
UID:534-1585526400-1585785599@www.pdf.com
SUMMARY:APC-M Europe
DESCRIPTION:
URL:https://www.pdf.com/event/apc-m-europe/
LOCATION:TOULON Palais des Congr’s Neptune\, Avenue de Besagne\, Toulon\, France
END:VEVENT
BEGIN:VEVENT
DTSTART;VALUE=DATE:20191211
DTEND;VALUE=DATE:20191214
DTSTAMP:20260421T052207
CREATED:20191003T183833Z
LAST-MODIFIED:20191003T183833Z
UID:388-1576022400-1576281599@www.pdf.com
SUMMARY:SEMICON Japan 2019
DESCRIPTION:Invited Presentation: Smart Factory realization through common semantic data models and production-proven AI\nMike Keleher\, Sales General Manager\, Japan\nDate/time is TBD
URL:https://www.pdf.com/event/semicon-japan-2019/
LOCATION:Tokyo Big Sight\, 3 Chome-11-1 Ariake\, Koto City\, Tokyo\, 135-0063\, Japan
END:VEVENT
BEGIN:VEVENT
DTSTART;VALUE=DATE:20191121
DTEND;VALUE=DATE:20191124
DTSTAMP:20260421T052207
CREATED:20191003T183929Z
LAST-MODIFIED:20191003T183929Z
UID:392-1574294400-1574553599@www.pdf.com
SUMMARY:ICCAD
DESCRIPTION:
URL:https://www.pdf.com/event/iccad/
END:VEVENT
END:VCALENDAR